BEGIN:VCALENDAR
VERSION:2.0
PRODID:-//Intand Corporation//Tandem//EN
METHOD:PUBLISH
BEGIN:VEVENT
DTSTAMP:20260422T114632Z
DTSTART:20260422T153000Z
DTEND:20260422T220000Z
TRANSP:TRANSPARENT
PRIORITY:0
SUMMARY:DO 103 (DNP): BASE Bargaining
LOCATION:District Office Room 103
DESCRIPTION:Setup: 8:00 am\nBreakdown: 3:30 pm\n\nSchools:\nDistrict Offic
 e\n\nLocation:\nDistrict Office Room 103\n\n
URL;VALUE=URI:https://bham.intand.com/index.php?type=view&action=event&id=
 348907
CREATED:20260421T233032Z
LAST-MODIFIED:20260421T233032Z
UID:event-348907-bham@intand.com
END:VEVENT
END:VCALENDAR
