BEGIN:VCALENDAR
VERSION:2.0
PRODID:-//Intand Corporation//Tandem//EN
METHOD:PUBLISH
BEGIN:VEVENT
DTSTAMP:20260422T113848Z
DTSTART:20260421T153000Z
DTEND:20260421T221500Z
TRANSP:TRANSPARENT
PRIORITY:0
SUMMARY:SqHS Special Testing Schedule
LOCATION:Squalicum High School
DESCRIPTION:Schools:\nSqualicum High School\n\nLocation:\nSqualicum High S
 chool\n\n
X-ALT-DESC;FMTTYPE=text/html:<!doctype html><html><body>Schools:<br />Squa
 licum High School<br /><br />Location:<br />Squalicum High School<br />Att
 achments:<br /><a href="https://bham.intand.com/index.php?type=export&acti
 on=file&id=146">SqHS Testing Schedule.pdf</a><br /></body></html>
URL;VALUE=URI:https://bham.intand.com/index.php?type=view&action=event&id=
 348899
CREATED:20260421T200414Z
LAST-MODIFIED:20260421T200415Z
UID:event-348899-bham@intand.com
END:VEVENT
END:VCALENDAR
