BEGIN:VCALENDAR
VERSION:2.0
PRODID:-//Intand Corporation//Tandem//EN
METHOD:PUBLISH
BEGIN:VEVENT
DTSTAMP:20260422T115359Z
DTSTART:20260427T154500Z
DTEND:20260427T170000Z
TRANSP:TRANSPARENT
PRIORITY:0
SUMMARY:Ms. Friswold's Class - Whatcom Museum
LOCATION:Parkview Offsite Event
DESCRIPTION:Schools:\nParkview Elementary School\n\nLocation:\nParkview Of
 fsite Event\n\n
URL;VALUE=URI:https://bham.intand.com/index.php?type=view&action=event&id=
 348889
CREATED:20260421T185200Z
LAST-MODIFIED:20260421T185200Z
UID:event-348889-bham@intand.com
END:VEVENT
END:VCALENDAR
