BEGIN:VCALENDAR
VERSION:2.0
PRODID:-//Intand Corporation//Tandem//EN
METHOD:PUBLISH
BEGIN:VEVENT
DTSTAMP:20260422T114846Z
DTSTART:20260427T164500Z
DTEND:20260427T181500Z
TRANSP:TRANSPARENT
PRIORITY:0
SUMMARY:Mr. Rich's Class - Field Trip to Whatcom Museum
LOCATION:Parkview Offsite Event
DESCRIPTION:Schools:\nParkview Elementary School\n\nLocation:\nParkview Of
 fsite Event\n\n
URL;VALUE=URI:https://bham.intand.com/index.php?type=view&action=event&id=
 348888
CREATED:20260421T185031Z
LAST-MODIFIED:20260421T185031Z
UID:event-348888-bham@intand.com
END:VEVENT
END:VCALENDAR
