BEGIN:VCALENDAR
VERSION:2.0
PRODID:-//Intand Corporation//Tandem//EN
METHOD:PUBLISH
BEGIN:VEVENT
DTSTAMP:20260422T120505Z
DTSTART:20260424T013000Z
DTEND:20260424T023000Z
TRANSP:TRANSPARENT
PRIORITY:0
SUMMARY:Chuckanut Tide Futsal training
LOCATION:Shuksan Gym - New
DESCRIPTION:Groups:\nChuckanut Tide Football Club\n\nSchools:\nShuksan Mid
 dle School\n\nLocation:\nShuksan Gym - New\n\nPlease call Custodial at 360
 -383-8468 to be let into the building. \n\n
URL;VALUE=URI:https://bham.intand.com/index.php?type=view&action=event&id=
 348873
CREATED:20260421T132920Z
LAST-MODIFIED:20260421T221523Z
UID:facility_rental-348873-bham@intand.com
END:VEVENT
END:VCALENDAR
