BEGIN:VCALENDAR
VERSION:2.0
PRODID:-//Intand Corporation//Tandem//EN
METHOD:PUBLISH
BEGIN:VEVENT
DTSTAMP:20260421T120209Z
DTSTART:20260501T010000Z
DTEND:20260501T014500Z
TRANSP:TRANSPARENT
PRIORITY:0
SUMMARY:SqHS Cheer Parent Info Meeting
LOCATION:Squalicum Library
DESCRIPTION:Schools:\nSqualicum High School\n\nLocation:\nSqualicum Librar
 y\n\n
URL;VALUE=URI:https://calendar.bellinghamschools.org/index.php?type=view&a
 ction=event&id=348870
CREATED:20260421T003208Z
LAST-MODIFIED:20260421T003208Z
UID:event-348870-bham@intand.com
END:VEVENT
END:VCALENDAR
