BEGIN:VCALENDAR
VERSION:2.0
PRODID:-//Intand Corporation//Tandem//EN
METHOD:PUBLISH
BEGIN:VEVENT
DTSTAMP:20260421T120220Z
DTSTART:20260429T003000Z
DTEND:20260429T010000Z
TRANSP:TRANSPARENT
PRIORITY:0
SUMMARY:DO 103: NAFC Public Hearing 
LOCATION:District Office Room 103
DESCRIPTION:Schools:\nDistrict Office\n\nLocation:\nDistrict Office Room 1
 03\n\n
URL;VALUE=URI:https://calendar.bellinghamschools.org/index.php?type=view&a
 ction=event&id=348862
CREATED:20260420T235651Z
LAST-MODIFIED:20260420T235651Z
UID:event-348862-bham@intand.com
END:VEVENT
END:VCALENDAR
