BEGIN:VCALENDAR
VERSION:2.0
PRODID:-//Intand Corporation//Tandem//EN
METHOD:PUBLISH
BEGIN:VEVENT
DTSTAMP:20260421T120131Z
DTSTART:20260430T020000Z
DTEND:20260430T040000Z
TRANSP:TRANSPARENT
PRIORITY:0
SUMMARY:Whatcom Prep Practice
LOCATION:Bellingham Softball Field
DESCRIPTION:Groups:\nWhatcom Prep Baseball Association\n\nSchools:\nBellin
 gham High School\n\nLocation:\nBellingham Softball Field\n\n
URL;VALUE=URI:https://calendar.bellinghamschools.org/index.php?type=view&a
 ction=event&id=348843
CREATED:20260420T210016Z
LAST-MODIFIED:20260420T210016Z
UID:facility_rental-348843-bham@intand.com
END:VEVENT
END:VCALENDAR
