BEGIN:VCALENDAR
VERSION:2.0
PRODID:-//Intand Corporation//Tandem//EN
METHOD:PUBLISH
BEGIN:VEVENT
DTSTAMP:20260421T120055Z
DTSTART:20260424T020000Z
DTEND:20260424T040000Z
TRANSP:TRANSPARENT
PRIORITY:0
SUMMARY:Whatcom Prep Practice
LOCATION:Bellingham Softball Field
DESCRIPTION:Groups:\nWhatcom Prep Baseball Association\n\nSchools:\nBellin
 gham High School\n\nLocation:\nBellingham Softball Field\n\nlights and res
 trooms programmed kpk 4/20/26\n\n
URL;VALUE=URI:https://calendar.bellinghamschools.org/index.php?type=view&a
 ction=event&id=348841
CREATED:20260420T205306Z
LAST-MODIFIED:20260420T223821Z
UID:facility_rental-348841-bham@intand.com
END:VEVENT
END:VCALENDAR
