BEGIN:VCALENDAR
VERSION:2.0
PRODID:-//Intand Corporation//Tandem//EN
METHOD:PUBLISH
BEGIN:VEVENT
DTSTAMP:20260421T115749Z
DTSTART:20260422T213000Z
DTEND:20260422T223000Z
TRANSP:TRANSPARENT
PRIORITY:0
SUMMARY:CO: Wild Whatcom
LOCATION:Off Site
DESCRIPTION:Groups:\nEnrichment Class - Columbia\n\nSchools:\nColumbia Ele
 mentary School\n\nLocation:\nOff Site\n\n
URL;VALUE=URI:https://calendar.bellinghamschools.org/index.php?type=view&a
 ction=event&id=348786
CREATED:20260420T174159Z
LAST-MODIFIED:20260420T174159Z
UID:event-348786-bham@intand.com
END:VEVENT
END:VCALENDAR
