BEGIN:VCALENDAR
VERSION:2.0
PRODID:-//Intand Corporation//Tandem//EN
METHOD:PUBLISH
BEGIN:VEVENT
DTSTAMP:20260421T115918Z
DTSTART:20260422T213000Z
DTEND:20260422T223000Z
TRANSP:TRANSPARENT
PRIORITY:0
SUMMARY:CO: Poetry & Art
LOCATION:Columbia Room 07
DESCRIPTION:Groups:\nEnrichment Class - Columbia\n\nSchools:\nColumbia Ele
 mentary School\n\nLocation:\nColumbia Room 07\n\n
URL;VALUE=URI:https://calendar.bellinghamschools.org/index.php?type=view&a
 ction=event&id=348776
CREATED:20260420T173411Z
LAST-MODIFIED:20260420T173411Z
UID:event-348776-bham@intand.com
END:VEVENT
END:VCALENDAR
