BEGIN:VCALENDAR
VERSION:2.0
PRODID:-//Intand Corporation//Tandem//EN
METHOD:PUBLISH
BEGIN:VEVENT
DTSTAMP:20260421T115935Z
DTSTART:20260422T213000Z
DTEND:20260422T223000Z
TRANSP:TRANSPARENT
PRIORITY:0
SUMMARY:CO: Martial Arts
LOCATION:Columbia South Gym
DESCRIPTION:Groups:\nEnrichment Class - Columbia\n\nSchools:\nColumbia Ele
 mentary School\n\nLocation:\nColumbia South Gym\n\n
URL;VALUE=URI:https://calendar.bellinghamschools.org/index.php?type=view&a
 ction=event&id=348767
CREATED:20260420T173244Z
LAST-MODIFIED:20260420T173244Z
UID:event-348767-bham@intand.com
END:VEVENT
END:VCALENDAR
