BEGIN:VCALENDAR
VERSION:2.0
PRODID:-//Intand Corporation//Tandem//EN
METHOD:PUBLISH
BEGIN:VEVENT
DTSTAMP:20260421T115907Z
DTSTART:20260425T170000Z
DTEND:20260425T180000Z
TRANSP:TRANSPARENT
PRIORITY:0
SUMMARY:Hanging basket pick up
LOCATION:Carl Cozier Covered Play Shed
DESCRIPTION:Stop by the Cozier Playshed to pick up your hanging basket on 
 4/25 at 10:00am.\n\n\nSchools:\nCarl Cozier Elementary School\n\nLocation:
 \nCarl Cozier Covered Play Shed\n\n
X-ALT-DESC;FMTTYPE=text/html:<!doctype html><html><body><span data-olk-cop
 y-source="MessageBody">Stop by the Cozier Playshed to pick up your hanging
  basket on 4/25 at 10:00am.</span><br /><br />Schools:<br />Carl Cozier El
 ementary School<br /><br />Location:<br />Carl Cozier Covered Play Shed<br
  /></body></html>
URL;VALUE=URI:https://calendar.bellinghamschools.org/index.php?type=view&a
 ction=event&id=348765
CREATED:20260420T173159Z
LAST-MODIFIED:20260420T173159Z
UID:event-348765-bham@intand.com
END:VEVENT
END:VCALENDAR
