BEGIN:VCALENDAR
VERSION:2.0
PRODID:-//Intand Corporation//Tandem//EN
METHOD:PUBLISH
BEGIN:VEVENT
DTSTAMP:20260421T120208Z
DTSTART:20260420T213000Z
DTEND:20260420T223000Z
TRANSP:TRANSPARENT
PRIORITY:0
SUMMARY:NH Mixed Media Art
LOCATION:Northern Heights Elementary School
DESCRIPTION:Schools:\nNorthern Heights Elementary School\n\nLocation:\nNor
 thern Heights Elementary School\n\n
URL;VALUE=URI:https://calendar.bellinghamschools.org/index.php?type=view&a
 ction=event&id=348721
CREATED:20260420T165155Z
LAST-MODIFIED:20260420T190354Z
UID:event-348721-bham@intand.com
END:VEVENT
END:VCALENDAR
