BEGIN:VCALENDAR
VERSION:2.0
PRODID:-//Intand Corporation//Tandem//EN
METHOD:PUBLISH
BEGIN:VEVENT
DTSTAMP:20260421T120040Z
DTSTART:20260420T213000Z
DTEND:20260420T231500Z
TRANSP:TRANSPARENT
PRIORITY:0
SUMMARY:NH Girls on the Run
LOCATION:Northern Heights Elementary School
DESCRIPTION:Schools:\nNorthern Heights Elementary School\n\nLocation:\nNor
 thern Heights Elementary School\n\n
URL;VALUE=URI:https://calendar.bellinghamschools.org/index.php?type=view&a
 ction=event&id=348712
CREATED:20260420T165011Z
LAST-MODIFIED:20260420T190136Z
UID:event-348712-bham@intand.com
END:VEVENT
END:VCALENDAR
