BEGIN:VCALENDAR
VERSION:2.0
PRODID:-//Intand Corporation//Tandem//EN
METHOD:PUBLISH
BEGIN:VEVENT
DTSTAMP:20260421T152516Z
DTSTART:20260518T164500Z
DTEND:20260518T211500Z
TRANSP:TRANSPARENT
PRIORITY:0
SUMMARY:CO: 5th Gr. Forest Conservation Tour
LOCATION:Off Site
DESCRIPTION:Forest Conservation Tour at Olsen Creek Seed Orchard\n\n\nGrou
 ps:\nFifth Grade - Columbia\n\nSchools:\nColumbia Elementary School\n\nLoc
 ation:\nOff Site\n\n
URL;VALUE=URI:https://bham.intand.com/index.php?type=view&action=event&id=
 348700
CREATED:20260417T211038Z
LAST-MODIFIED:20260417T211038Z
UID:event-348700-bham@intand.com
END:VEVENT
END:VCALENDAR
