BEGIN:VCALENDAR
VERSION:2.0
PRODID:-//Intand Corporation//Tandem//EN
METHOD:PUBLISH
BEGIN:VEVENT
DTSTAMP:20260420T165341Z
DTSTART:20260422T161500Z
DTEND:20260422T173000Z
TRANSP:TRANSPARENT
PRIORITY:0
SUMMARY:CO: Jacobs Prom K to Elizabeth Park
LOCATION:Elizabeth Park
DESCRIPTION:Schools:\nColumbia Elementary School\n\nLocation:\nElizabeth P
 ark\n\n
URL;VALUE=URI:https://bham.intand.com/index.php?type=view&action=event&id=
 348657
CREATED:20260417T173332Z
LAST-MODIFIED:20260417T173332Z
UID:event-348657-bham@intand.com
END:VEVENT
END:VCALENDAR
