BEGIN:VCALENDAR
VERSION:2.0
PRODID:-//Intand Corporation//Tandem//EN
METHOD:PUBLISH
BEGIN:VEVENT
DTSTAMP:20260422T115212Z
DTSTART:20260429T160000Z
DTEND:20260429T190000Z
TRANSP:TRANSPARENT
PRIORITY:0
SUMMARY:DO 102: HR New Hire Onboarding
LOCATION:District Office Room 102 
DESCRIPTION:Setup: 8:30 am\nBreakdown: 12:30 pm\n\nSchools:\nDistrict Offi
 ce\n\nLocation:\nDistrict Office Room 102 \n\n
URL;VALUE=URI:https://bham.intand.com/index.php?type=view&action=event&id=
 348638
CREATED:20260417T162047Z
LAST-MODIFIED:20260421T180739Z
UID:event_request-348638-bham@intand.com
END:VEVENT
END:VCALENDAR
