BEGIN:VCALENDAR
VERSION:2.0
PRODID:-//Intand Corporation//Tandem//EN
METHOD:PUBLISH
BEGIN:VEVENT
DTSTAMP:20260420T165456Z
DTSTART:20260427T165000Z
DTEND:20260427T173000Z
TRANSP:TRANSPARENT
PRIORITY:0
SUMMARY:SqHS SENIOR Meeting
LOCATION:Squalicum Forum
DESCRIPTION:Groups:\nSQHS Senior\n\nSchools:\nSqualicum High School\n\nLoc
 ation:\nSqualicum Forum\n\n
URL;VALUE=URI:https://bham.intand.com/index.php?type=view&action=event&id=
 348632
CREATED:20260417T161706Z
LAST-MODIFIED:20260417T161706Z
UID:event-348632-bham@intand.com
END:VEVENT
END:VCALENDAR
