BEGIN:VCALENDAR
VERSION:2.0
PRODID:-//Intand Corporation//Tandem//EN
METHOD:PUBLISH
BEGIN:VEVENT
DTSTAMP:20260420T165741Z
DTSTART:20260424T010000Z
DTEND:20260424T023000Z
TRANSP:TRANSPARENT
PRIORITY:0
SUMMARY:Taste of Culture
LOCATION:Carl Cozier Cafeteria
DESCRIPTION:Join us for this popular annual tradition to discover dishes a
 nd flavors from all the different cultures represented here at Carl Cozier
  Elementary.  You are encouraged to bring a dish from your culture to shar
 e with everyone. \n\nEnjoy the evening! \n\n \n\n\nSchools:\nCarl Cozier E
 lementary School\n\nLocation:\nCarl Cozier Cafeteria\n\n
X-ALT-DESC;FMTTYPE=text/html:<!doctype html><html><body>Join us for this p
 opular annual tradition to discover dishes and flavors from all the differ
 ent cultures represented here at Carl Cozier Elementary.  You are encourag
 ed to bring a dish from your culture to share with everyone. </p><p>Enjoy 
 the evening! </p><p> <br /><br />Schools:<br />Carl Cozier Elementary Scho
 ol<br /><br />Location:<br />Carl Cozier Cafeteria<br /></body></html>
URL;VALUE=URI:https://bham.intand.com/index.php?type=view&action=event&id=
 348628
CREATED:20260417T160410Z
LAST-MODIFIED:20260417T160533Z
UID:event-348628-bham@intand.com
END:VEVENT
END:VCALENDAR
