BEGIN:VCALENDAR
VERSION:2.0
PRODID:-//Intand Corporation//Tandem//EN
METHOD:PUBLISH
BEGIN:VEVENT
DTSTAMP:20260420T201420Z
DTSTART:20260522T010000Z
DTEND:20260522T020000Z
TRANSP:TRANSPARENT
PRIORITY:0
SUMMARY:Southside Soccer Practice 
LOCATION:Happy Valley Grass Field
DESCRIPTION:Groups:\nWCYSA Southside Soccer\n\nSchools:\nHappy Valley Elem
 entary School\n\nLocation:\nHappy Valley Grass Field\n\nwould like to have
  4pm-5pm if available\n\nPlease add the first two weeks of June T/R if ava
 ilable also\n\n
URL;VALUE=URI:https://bham.intand.com/index.php?type=view&action=event&id=
 348553
CREATED:20260416T130849Z
LAST-MODIFIED:20260416T165100Z
UID:facility_rental-348553-bham@intand.com
END:VEVENT
END:VCALENDAR
