BEGIN:VCALENDAR
VERSION:2.0
PRODID:-//Intand Corporation//Tandem//EN
METHOD:PUBLISH
BEGIN:VEVENT
DTSTAMP:20260420T200007Z
DTSTART:20260611T153000Z
DTEND:20260611T190000Z
TRANSP:TRANSPARENT
PRIORITY:0
SUMMARY:CO: 5th Grade Celebration
LOCATION:Elizabeth Park
DESCRIPTION:Groups:\nFifth Grade - Columbia\n\nSchools:\nColumbia Elementa
 ry School\n\nLocation:\nElizabeth Park\n\n
URL;VALUE=URI:https://bham.intand.com/index.php?type=view&action=event&id=
 348457
CREATED:20260415T194000Z
LAST-MODIFIED:20260415T194000Z
UID:event-348457-bham@intand.com
END:VEVENT
END:VCALENDAR
