BEGIN:VCALENDAR
VERSION:2.0
PRODID:-//Intand Corporation//Tandem//EN
METHOD:PUBLISH
BEGIN:VEVENT
DTSTAMP:20260420T165903Z
DTSTART:20260419T190000Z
DTEND:20260419T210000Z
TRANSP:TRANSPARENT
PRIORITY:0
SUMMARY:Whatcom Prep Game
LOCATION:Sehome Baseball Field
DESCRIPTION:Groups:\nWhatcom Prep Baseball Association\n\nSchools:\nSehome
  High School\n\nLocation:\nSehome Baseball Field\n\nrestrooms programmed k
 pk 4/17/26\n\n
URL;VALUE=URI:https://bham.intand.com/index.php?type=view&action=event&id=
 348020
CREATED:20260409T161632Z
LAST-MODIFIED:20260417T164423Z
UID:facility_rental-348020-bham@intand.com
END:VEVENT
END:VCALENDAR
