BEGIN:VCALENDAR
VERSION:2.0
PRODID:-//Intand Corporation//Tandem//EN
METHOD:PUBLISH
BEGIN:VEVENT
DTSTAMP:20260420T170240Z
DTSTART:20260402T222500Z
DTEND:20260402T230000Z
TRANSP:TRANSPARENT
PRIORITY:0
SUMMARY:Unified Soccer Pictures 
LOCATION:Fairhaven Middle School
DESCRIPTION:Schools:\nFairhaven Middle School\n\nLocation:\nFairhaven Midd
 le School\n\n
URL;VALUE=URI:https://bham.intand.com/index.php?type=view&action=event&id=
 345825
CREATED:20260303T190247Z
LAST-MODIFIED:20260303T191647Z
UID:event-345825-bham@intand.com
END:VEVENT
END:VCALENDAR
