BEGIN:VCALENDAR
VERSION:2.0
PRODID:-//Intand Corporation//Tandem//EN
METHOD:PUBLISH
BEGIN:VEVENT
DTSTAMP:20260420T170342Z
DTSTART:20260403T013000Z
DTEND:20260403T023000Z
TRANSP:TRANSPARENT
PRIORITY:0
SUMMARY:CO: SMS Future Family Night
LOCATION:Shuksan Middle School
DESCRIPTION:This even is open to all incoming 6th-grade students and their
  families\, as well as any other students who are new to Shuksan.  All stu
 dents must be accompanied by an adult.\n\n\nGroups:\nFifth Grade - Columbi
 a\n\nSchools:\nColumbia Elementary School\n\nLocation:\nShuksan Middle Sch
 ool\n\n
URL;VALUE=URI:https://bham.intand.com/index.php?type=view&action=event&id=
 345817
CREATED:20260303T175210Z
LAST-MODIFIED:20260303T175210Z
UID:event-345817-bham@intand.com
END:VEVENT
END:VCALENDAR
