BEGIN:VCALENDAR
VERSION:2.0
PRODID:-//Intand Corporation//Tandem//EN
METHOD:PUBLISH
BEGIN:VEVENT
DTSTAMP:20260420T170123Z
DTSTART:20260330T221500Z
DTEND:20260331T003000Z
TRANSP:TRANSPARENT
PRIORITY:0
SUMMARY:SqHS Track & Field Practice
LOCATION:Squalicum Football Field/Track
DESCRIPTION:Schools:\nSqualicum High School\n\nLocation:\nSqualicum Footba
 ll Field/Track\n\n
URL;VALUE=URI:https://bham.intand.com/index.php?type=view&action=event&id=
 345670
CREATED:20260228T000209Z
LAST-MODIFIED:20260228T000209Z
UID:event-345670-bham@intand.com
END:VEVENT
END:VCALENDAR
