BEGIN:VCALENDAR
VERSION:2.0
PRODID:-//Intand Corporation//Tandem//EN
METHOD:PUBLISH
BEGIN:VEVENT
DTSTAMP:20260420T170208Z
DTSTART:20260402T013000Z
DTEND:20260402T023000Z
TRANSP:TRANSPARENT
PRIORITY:0
SUMMARY:Kulshan incoming 6th Grade Parent Guardian Night
LOCATION:Carl Cozier Elementary School
DESCRIPTION:Happening at Kulshan Middle School\n\n\nSchools:\nCarl Cozier 
 Elementary School\n\nLocation:\nCarl Cozier Elementary School\n\n
URL;VALUE=URI:https://bham.intand.com/index.php?type=view&action=event&id=
 345501
CREATED:20260225T181033Z
LAST-MODIFIED:20260302T210315Z
UID:event_request-345501-bham@intand.com
END:VEVENT
END:VCALENDAR
