BEGIN:VCALENDAR
VERSION:2.0
PRODID:-//Intand Corporation//Tandem//EN
METHOD:PUBLISH
BEGIN:VEVENT
DTSTAMP:20260420T170240Z
DTSTART:20260403T013000Z
DTEND:20260403T023000Z
TRANSP:TRANSPARENT
PRIORITY:0
SUMMARY:SMS Future Family Night
LOCATION:Shuksan Middle School
DESCRIPTION:This event is open to all families and students who are new to
  Shuksan.\n\n\nSetup: 5:30 pm\nBreakdown: 8:30 pm\n\nSchools:\nShuksan Mid
 dle School\n\nLocation:\nShuksan Middle School\n\n
URL;VALUE=URI:https://bham.intand.com/index.php?type=view&action=event&id=
 345387
CREATED:20260224T172117Z
LAST-MODIFIED:20260302T191232Z
UID:event-345387-bham@intand.com
END:VEVENT
END:VCALENDAR
