BEGIN:VCALENDAR
VERSION:2.0
PRODID:-//Intand Corporation//Tandem//EN
METHOD:PUBLISH
BEGIN:VEVENT
DTSTAMP:20260420T203804Z
DTSTART:20260507T190000Z
DTEND:20260507T200000Z
TRANSP:TRANSPARENT
PRIORITY:0
SUMMARY:HV Kindergarten/Prom K Open House
LOCATION:Happy Valley Classrooms
DESCRIPTION:Kindergarten and Promise K \n\n\nSchools:\nHappy Valley Elemen
 tary School\n\nLocation:\nHappy Valley Classrooms\n\n
URL;VALUE=URI:https://bham.intand.com/index.php?type=view&action=event&id=
 345385
CREATED:20260224T163434Z
LAST-MODIFIED:20260224T163434Z
UID:event-345385-bham@intand.com
END:VEVENT
END:VCALENDAR
