BEGIN:VCALENDAR
VERSION:2.0
PRODID:-//Intand Corporation//Tandem//EN
METHOD:PUBLISH
BEGIN:VEVENT
DTSTAMP:20260420T170209Z
DTSTART:20260402T230000Z
DTEND:20260403T013000Z
TRANSP:TRANSPARENT
PRIORITY:0
SUMMARY:SqHS Girls JV Tennis Matches
LOCATION:Squalicum Tennis Courts
DESCRIPTION:Schools:\nSqualicum High School\n\nLocation:\nSqualicum Tennis
  Courts\n\n
URL;VALUE=URI:https://bham.intand.com/index.php?type=view&action=event&id=
 344518
CREATED:20260204T224914Z
LAST-MODIFIED:20260204T225018Z
UID:event-344518-bham@intand.com
END:VEVENT
END:VCALENDAR
