BEGIN:VCALENDAR
VERSION:2.0
PRODID:-//Intand Corporation//Tandem//EN
METHOD:PUBLISH
BEGIN:VEVENT
DTSTAMP:20260420T170209Z
DTSTART:20260419T160000Z
DTEND:20260420T030000Z
TRANSP:TRANSPARENT
PRIORITY:0
SUMMARY:Chuckanut Tide Tryouts
LOCATION:Kulshan Turf Field
DESCRIPTION:Groups:\nChuckanut Tide Football Club\n\nSchools:\nKulshan Mid
 dle School\n\nLocation:\nKulshan Turf Field\n\nlights and restrooms progra
 mmed kpk 4/17/26\n\n
URL;VALUE=URI:https://bham.intand.com/index.php?type=view&action=event&id=
 343103
CREATED:20260126T191900Z
LAST-MODIFIED:20260417T163950Z
UID:facility_rental-343103-bham@intand.com
END:VEVENT
END:VCALENDAR
