BEGIN:VCALENDAR
VERSION:2.0
PRODID:-//Intand Corporation//Tandem//EN
METHOD:PUBLISH
BEGIN:VEVENT
DTSTAMP:20260420T170240Z
DTSTART:20260416T153000Z
DTEND:20260416T190000Z
TRANSP:TRANSPARENT
PRIORITY:0
SUMMARY:Class Pictures 
LOCATION:Carl Cozier Room 13
DESCRIPTION:Schools:\nCarl Cozier Elementary School\n\nLocation:\nCarl Coz
 ier Room 13\n\n
URL;VALUE=URI:https://bham.intand.com/index.php?type=view&action=event&id=
 341317
CREATED:20260108T164751Z
LAST-MODIFIED:20260108T164751Z
UID:event-341317-bham@intand.com
END:VEVENT
END:VCALENDAR
