BEGIN:VCALENDAR
VERSION:2.0
PRODID:-//Intand Corporation//Tandem//EN
METHOD:PUBLISH
BEGIN:VEVENT
DTSTAMP:20260420T170158Z
DTSTART:20260331T220000Z
DTEND:20260401T000000Z
TRANSP:TRANSPARENT
PRIORITY:0
SUMMARY:HV Wild Whatcom
LOCATION:Happy Valley Offsite Event
DESCRIPTION:Schools:\nHappy Valley Elementary School\n\nLocation:\nHappy V
 alley Offsite Event\n\n
URL;VALUE=URI:https://bham.intand.com/index.php?type=view&action=event&id=
 340269
CREATED:20251216T204459Z
LAST-MODIFIED:20251216T204459Z
UID:event-340269-bham@intand.com
END:VEVENT
END:VCALENDAR
