BEGIN:VCALENDAR
VERSION:2.0
PRODID:-//Intand Corporation//Tandem//EN
METHOD:PUBLISH
BEGIN:VEVENT
DTSTAMP:20260420T170057Z
DTSTART:20260429T000000Z
DTEND:20260429T033000Z
TRANSP:TRANSPARENT
PRIORITY:0
SUMMARY:KMS - Strengthening Families
LOCATION:Kulshan Room 302\, Kulshan Library\, Kulshan Room 301
DESCRIPTION:Schools:\nKulshan Middle School\n\nLocations:\nKulshan Room 30
 2\nKulshan Library\nKulshan Room 301\n\n
URL;VALUE=URI:https://bham.intand.com/index.php?type=view&action=event&id=
 330488
CREATED:20250911T215114Z
LAST-MODIFIED:20250911T215114Z
UID:event-330488-bham@intand.com
END:VEVENT
END:VCALENDAR
