BEGIN:VCALENDAR
VERSION:2.0
PRODID:-//Intand Corporation//Tandem//EN
METHOD:PUBLISH
BEGIN:VEVENT
DTSTAMP:20260419T125516Z
DTSTART:20240725T183000Z
DTEND:20240725T200000Z
TRANSP:TRANSPARENT
PRIORITY:0
SUMMARY:SqHS Girls Soccer Practice
LOCATION:Squalicum Upper Soccer Field
DESCRIPTION:Schools:\nSqualicum High School\n\nLocation:\nSqualicum Upper 
 Soccer Field\n\n
URL;VALUE=URI:https://bham.intand.com/index.php?type=view&action=event&id=
 294261
CREATED:20240611T231432Z
LAST-MODIFIED:20240611T231432Z
UID:event-294261-bham@intand.com
END:VEVENT
END:VCALENDAR
