BEGIN:VCALENDAR
VERSION:2.0
PRODID:-//Intand Corporation//Tandem//EN
METHOD:PUBLISH
BEGIN:VEVENT
DTSTAMP:20260419T131927Z
DTSTART:20240524T151500Z
DTEND:20240524T161500Z
TRANSP:TRANSPARENT
PRIORITY:0
SUMMARY:NH - Shrum to Northridge park
LOCATION:Northern Heights Elementary School
DESCRIPTION:Schools:\nNorthern Heights Elementary School\n\nLocation:\nNor
 thern Heights Elementary School\n\n
URL;VALUE=URI:https://bham.intand.com/index.php?type=view&action=event&id=
 293237
CREATED:20240514T165044Z
LAST-MODIFIED:20240514T165044Z
UID:event-293237-bham@intand.com
END:VEVENT
END:VCALENDAR
