BEGIN:VCALENDAR
VERSION:2.0
PRODID:-//Intand Corporation//Tandem//EN
METHOD:PUBLISH
BEGIN:VEVENT
DTSTAMP:20260419T132514Z
DTSTART:20240524T153000Z
DTEND:20240524T223000Z
TRANSP:TRANSPARENT
PRIORITY:0
SUMMARY:BHS: OHS field day
LOCATION:Bellingham Football/Soccer Turf Field\, Bellingham Tennis Courts
DESCRIPTION:Schools:\nBellingham High School\n\nLocations:\nBellingham Foo
 tball/Soccer Turf Field\nBellingham Tennis Courts\n\n
URL;VALUE=URI:https://bham.intand.com/index.php?type=view&action=event&id=
 287392
CREATED:20240213T180501Z
LAST-MODIFIED:20240213T180501Z
UID:event-287392-bham@intand.com
END:VEVENT
END:VCALENDAR
