BEGIN:VCALENDAR
VERSION:2.0
PRODID:-//Intand Corporation//Tandem//EN
METHOD:PUBLISH
BEGIN:VEVENT
DTSTAMP:20260419T125213Z
DTSTART:20231031T000000Z
DTEND:20231031T010000Z
TRANSP:TRANSPARENT
PRIORITY:0
SUMMARY:Dinner Program
LOCATION:Shuksan Cafeteria
DESCRIPTION:Schools:\nShuksan Middle School\n\nLocation:\nShuksan Cafeteri
 a\n\n
URL;VALUE=URI:https://bham.intand.com/index.php?type=view&action=event&id=
 270597
CREATED:20230911T180731Z
LAST-MODIFIED:20230911T180731Z
UID:event-270597-bham@intand.com
END:VEVENT
END:VCALENDAR
