BEGIN:VCALENDAR
VERSION:2.0
PRODID:-//Intand Corporation//Tandem//EN
METHOD:PUBLISH
BEGIN:VEVENT
DTSTAMP:20260419T131234Z
DTSTART:20240131T002000Z
DTEND:20240131T023000Z
TRANSP:TRANSPARENT
PRIORITY:0
SUMMARY:Speech & Debate Practice Rm 251 & 275
LOCATION:Sehome Classroom
DESCRIPTION:Schools:\nSehome High School\n\nLocation:\nSehome Classroom\n\n
URL;VALUE=URI:https://bham.intand.com/index.php?type=view&action=event&id=
 270240
CREATED:20230901T194443Z
LAST-MODIFIED:20231010T222744Z
UID:event-270240-bham@intand.com
END:VEVENT
END:VCALENDAR
