BEGIN:VCALENDAR
VERSION:2.0
PRODID:-//Intand Corporation//Tandem//EN
METHOD:PUBLISH
BEGIN:VEVENT
DTSTAMP:20260419T120604Z
DTSTART:20240524T230000Z
DTEND:20240525T003000Z
TRANSP:TRANSPARENT
PRIORITY:0
SUMMARY:Middle School Coed Football Practice
LOCATION:Civic Stadium & Field\, Kulshan Turf Field\, Shuksan Grass Field\
 , Whatcom Battersby Field\, Fairhaven Fields
DESCRIPTION:Setup: 3:45 pm\nBreakdown: 6:00 pm\n\nSchools:\nShuksan Middle
  School\nWhatcom Middle School\nFairhaven Middle School\nKulshan Middle Sc
 hool\n\nLocations:\nCivic Stadium & Field\nKulshan Turf Field\nShuksan Gra
 ss Field\nWhatcom Battersby Field\nFairhaven Fields\n\n
URL;VALUE=URI:https://bham.intand.com/index.php?type=view&action=event&id=
 263122
CREATED:20230519T015139Z
LAST-MODIFIED:20240319T213109Z
UID:event-263122-bham@intand.com
END:VEVENT
END:VCALENDAR
